BEGIN:VCALENDAR
VERSION:2.0
PRODID:-//Tukios.com/
BEGIN:VEVENT
UID:2ed638f7-13a6-4c62-ad43-4de626de47c8@www.cicholski-zidekfh.com
DTSTAMP:20260421T210720Z
DTSTART:20260424T150000Z
DTEND:20260424T160000Z
SUMMARY:Funeral Service
DESCRIPTION:
URL:https://www.cicholski-zidekfh.com/obituaries/brenda-brucker
LOCATION: 1522 Carlisle St.  Natrona Heights PA 15065
GEO:40.6213267;-79.7300849
END:VEVENT
END:VCALENDAR