BEGIN:VCALENDAR
VERSION:2.0
PRODID:-//Tukios.com/
BEGIN:VEVENT
UID:c0559c98-1fa6-4c17-8293-b370b5bb2ba4@www.cicholski-zidekfh.com
DTSTAMP:20260421T210720Z
DTSTART:20260423T220000Z
DTEND:20260424T000000Z
SUMMARY:Visitation
DESCRIPTION:
URL:https://www.cicholski-zidekfh.com/obituaries/brenda-brucker
LOCATION: 1522 Carlisle St.  Natrona Heights PA 15065
GEO:40.6213267;-79.7300849
END:VEVENT
END:VCALENDAR