BEGIN:VCALENDAR
VERSION:2.0
PRODID:-//Tukios.com/
BEGIN:VEVENT
UID:24942d66-5a58-4f95-9333-7e8d3eaeccff@www.cicholski-zidekfh.com
DTSTAMP:20260421T211301Z
DTSTART:20260423T180000Z
DTEND:20260423T200000Z
SUMMARY:Visitation
DESCRIPTION:
URL:https://www.cicholski-zidekfh.com/obituaries/brenda-brucker
LOCATION: 1522 Carlisle St.  Natrona Heights PA 15065
GEO:40.6213267;-79.7300849
END:VEVENT
END:VCALENDAR